BEGIN:VCALENDAR
VERSION:2.0
PRODID:-//Squarespace Inc/Squarespace 6//v6//EN
BEGIN:VEVENT
UID:5b6946e28a922d4579dd4fa5@squarespace.com
DTSTAMP:20180807T071950Z
DTSTART:20180805T023000Z
DTEND:20180805T080000Z
SUMMARY:Jaxon from Love Island 
GEO:-37.560049;143.858818
LOCATION:The Bluestone\, 101-103 Mair Street\, Ballarat Central\, VIC\, 335
 0\, Australia
END:VEVENT
END:VCALENDAR
